Workbook

Sheet Radar Information
B1: Field Requires Entry | C1: County | F1: Sheet 2 shows costs for common set-ups
B2: Field is Calculated
E3: Unit # = # of Radars it Supports | G3: Optional XP21 Radar View Note Below
A4: Intersection Name
A5: 1 | B5: Total Approaches/Radars | C5: Length of Jumpers (6', 20', 80') | D5: Cards or Arc Unit? | E5: Arc2 Unit | F5: Arc6 Unit | G5: 120' Diagonal? | H5: XP21 Radar
A6: Stop Bar (Matrix) | B6: 0 | C6: 6 | D6: Cards | E6: =IF(D6="Arc Unit",IF(OR(B8="X",B8=1,B8=2),1,0),IF(H6=1,1,0)) -> 0 | F6: =IF(D6="Cards", 0, IF(OR(B8="X",B8=0,B8=1,B8=2),0,1)) -> 0 | G6: No | H6: =IF(G6="No", 0, 1) -> 0 | I6: =E29 -> 0
A7: GES (Advanced) | B7: 0 | C7: 6
A8: TOTAL | B8: =IF(H6=1,"X",SUM(B6:B7)) -> 0 | J8: =B8 -> 0
A10: Line 1 | B10: Six Card Power Supply | C10: ='Contract Cost Sheet'!$C$2 -> 3000 | D10: =IF(OR(E6=1,F6=1),0,IF(OR(B8="X",B8<=4),0,1)) -> 0 | E10: =C10*D10 -> 0
A11: Line 2 | B11: Four Card Power Supply | C11: ='Contract Cost Sheet'!$C$3 -> 2250 | D11: =IF(OR(E6=1,F6=1),0,IF(OR(B8="X",B8<=2,B8>4),0,1)) -> 0 | E11: =C11*D11 -> 0
A12: Line 3 | B12: Two Card Power Supply | C12: ='Contract Cost Sheet'!$C$4 -> 1550 | D12: =IF(OR(E6=1,F6=1),0,IF(OR(B8="X",B8>2,B8=0),0,1)) -> 0 | E12: =C12*D12 -> 0
A13: Line 4 | B13: Radar Detector Card | C13: ='Contract Cost Sheet'!$C$5 -> 415 | D13: =IF(OR(E6>=1,F6>=1),0,B8) -> 0 | E13: =C13*D13 -> 0
A14: Line 5 | B14: Advanced Radar Head | C14: ='Contract Cost Sheet'!$C$6 -> 4850 | D14: =IF(B8="X",0,B7) -> 0 | E14: =C14*D14 -> 0
A15: Line 6 | B15: Matrix Radar Head | C15: ='Contract Cost Sheet'!$C$7 -> 4450 | D15: =IF(B8="X",0,B6) -> 0 | E15: =C15*D15 -> 0
A16: Line 8 | B16: Radar Head Mount | C16: ='Contract Cost Sheet'!$C$9 -> 215 | D16: =IF(B8="X",0,B8) -> 0 | E16: =C16*D16 -> 0
A17: Line 9 | B17: Radar Junction Box | C17: ='Contract Cost Sheet'!$C$10 -> 190 | D17: =IF(B8="X",0,B8) -> 0 | E17: =C17*D17 -> 0
A18: Line 10 | B18: 80' Jumper | C18: ='Contract Cost Sheet'!$C$11 -> 365 | D18: =IF(B8="X",0,(IF(C6=80,B6,0)+IF(C7=80,B7,0))) -> 0 | E18: =C18*D18 -> 0
A19: Line 11 | B19: Bulk Wire Spool | C19: ='Contract Cost Sheet'!$C$12 -> 1250 | D19: =IF(B8="X",0,IF(B8>=1,1,0)) -> 0 | E19: =C19*D19 -> 0
A20: Line 18 | B20: 20' Jumper | C20: ='Contract Cost Sheet'!$C$19 -> 165 | D20: =IF(B8="X",0,(IF(C6=20,B6,0)+IF(C7=20,B7,0))) -> 0 | E20: =C20*D20 -> 0
A21: Line 19 | B21: 6' Jumper | C21: ='Contract Cost Sheet'!$C$20 -> 135 | D21: =IF(B8="X",0,(IF(C6=6,B6,0)+IF(C7=6,B7,0))) -> 0 | E21: =C21*D21 -> 0
A22: Line 23 | B22: SDLC Cable | C22: ='Contract Cost Sheet'!$C$24 -> 135 | D22: =IF(OR(E6>0,F6>0),E6+F6,0) -> 0 | E22: =C22*D22 -> 0
A23: Line 29 | B23: Arc2 Radar Box | C23: ='Contract Cost Sheet'!$C$30 -> 4950 | D23: =E6 -> 0 | E23: =C23*D23 -> 0
A24: Line 30 | B24: Arc6 Radar Box | C24: ='Contract Cost Sheet'!$C$31 -> 5750 | D24: =F6 -> 0 | E24: =C24*D24 -> 0
A25: Line 31 | B25: Arc Unit Surge Card | C25: ='Contract Cost Sheet'!$C$32 -> 245 | D25: =IF(AND(H6=0,OR(E6>0,F6>0)),B8,0) -> 0 | E25: =C25*D25 -> 0
A26: Line 32 | B26: XP21 Radar Sensor | C26: ='Contract Cost Sheet'!$C$33 -> 9950 | D26: =H6 -> 0 | E26: =C26*D26 -> 0
A27: Line 34 | B27: XP21 Arc2 Surge Card | C27: ='Contract Cost Sheet'!$C$35 -> 245 | D27: =IF(H6=0,0,1) -> 0 | E27: =C27*D27 -> 0
A28: Line 35 | B28: XP21 Cable | C28: ='Contract Cost Sheet'!$C$36 -> 625 | D28: =IF(H6=0,0,1) -> 0 | E28: =C28*D28 -> 0
D29: total | E29: =SUM(E10:E28) -> 0
A31: Intersection Name
A32: 2 | B32: Total Approaches/Radars | C32: Length of Jumpers (6', 20', 80') | D32: Cards or Arc Unit? | E32: Arc2 Unit | F32: Arc6 Unit | G32: 120' Diagonal? | H32: XP21 Radar
A33: Stop Bar (Matrix) | B33: 0 | C33: 6 | D33: Cards | E33: =IF(D33="Arc Unit",IF(OR(B35="X",B35=1,B35=2),1,0),IF(H33=1,1,0)) -> 0 | F33: =IF(D33="Cards", 0, IF(OR(B35="X",B35=0,B35=1,B35=2),0,1)) -> 0 | G33: No | H33: =IF(G33="No", 0, 1) -> 0 | I33: =E56 -> 0
A34: GES (Advanced) | B34: 0 | C34: 6
A35: TOTAL | B35: =IF(H33=1,"X",SUM(B33:B34)) -> 0 | J35: =B35 -> 0
A37: Line 1 | B37: Six Card Power Supply | C37: ='Contract Cost Sheet'!$C$2 -> 3000 | D37: =IF(OR(E33=1,F33=1),0,IF(OR(B35="X",B35<=4),0,1)) -> 0 | E37: =C37*D37 -> 0
A38: Line 2 | B38: Four Card Power Supply | C38: ='Contract Cost Sheet'!$C$3 -> 2250 | D38: =IF(OR(E33=1,F33=1),0,IF(OR(B35="X",B35<=2,B35>4),0,1)) -> 0 | E38: =C38*D38 -> 0
A39: Line 3 | B39: Two Card Power Supply | C39: ='Contract Cost Sheet'!$C$4 -> 1550 | D39: =IF(OR(E33=1,F33=1),0,IF(OR(B35="X",B35>2,B35=0),0,1)) -> 0 | E39: =C39*D39 -> 0
A40: Line 4 | B40: Radar Detector Card | C40: ='Contract Cost Sheet'!$C$5 -> 415 | D40: =IF(OR(E33>=1,F33>=1),0,B35) -> 0 | E40: =C40*D40 -> 0
A41: Line 5 | B41: Advanced Radar Head | C41: ='Contract Cost Sheet'!$C$6 -> 4850 | D41: =IF(B35="X",0,B34) -> 0 | E41: =C41*D41 -> 0
A42: Line 6 | B42: Matrix Radar Head | C42: ='Contract Cost Sheet'!$C$7 -> 4450 | D42: =IF(B35="X",0,B33) -> 0 | E42: =C42*D42 -> 0
A43: Line 8 | B43: Radar Head Mount | C43: ='Contract Cost Sheet'!$C$9 -> 215 | D43: =IF(B35="X",0,B35) -> 0 | E43: =C43*D43 -> 0
A44: Line 9 | B44: Radar Junction Box | C44: ='Contract Cost Sheet'!$C$10 -> 190 | D44: =IF(B35="X",0,B35) -> 0 | E44: =C44*D44 -> 0
A45: Line 10 | B45: 80' Jumper | C45: ='Contract Cost Sheet'!$C$11 -> 365 | D45: =IF(B35="X",0,(IF(C33=80,B33,0)+IF(C34=80,B34,0))) -> 0 | E45: =C45*D45 -> 0
A46: Line 11 | B46: Bulk Wire Spool | C46: ='Contract Cost Sheet'!$C$12 -> 1250 | D46: =IF(B35="X",0,IF(B35>=1,1,0)) -> 0 | E46: =C46*D46 -> 0
A47: Line 18 | B47: 20' Jumper | C47: ='Contract Cost Sheet'!$C$19 -> 165 | D47: =IF(B35="X",0,(IF(C33=20,B33,0)+IF(C34=20,B34,0))) -> 0 | E47: =C47*D47 -> 0
A48: Line 19 | B48: 6' Jumper | C48: ='Contract Cost Sheet'!$C$20 -> 135 | D48: =IF(B35="X",0,(IF(C33=6,B33,0)+IF(C34=6,B34,0))) -> 0 | E48: =C48*D48 -> 0
A49: Line 23 | B49: SDLC Cable | C49: ='Contract Cost Sheet'!$C$24 -> 135 | D49: =IF(OR(E33>0,F33>0),E33+F33,0) -> 0 | E49: =C49*D49 -> 0
A50: Line 29 | B50: Arc2 Radar Box | C50: ='Contract Cost Sheet'!$C$30 -> 4950 | D50: =E33 -> 0 | E50: =C50*D50 -> 0
A51: Line 30 | B51: Arc6 Radar Box | C51: ='Contract Cost Sheet'!$C$31 -> 5750 | D51: =F33 -> 0 | E51: =C51*D51 -> 0
A52: Line 31 | B52: Arc Unit Surge Card | C52: ='Contract Cost Sheet'!$C$32 -> 245 | D52: =IF(AND(H33=0,OR(E33>0,F33>0)),B35,0) -> 0 | E52: =C52*D52 -> 0
A53: Line 32 | B53: XP21 Radar Sensor | C53: ='Contract Cost Sheet'!$C$33 -> 9950 | D53: =H33 -> 0 | E53: =C53*D53 -> 0
A54: Line 34 | B54: XP21 Arc2 Surge Card | C54: ='Contract Cost Sheet'!$C$35 -> 245 | D54: =IF(H33=0,0,1) -> 0 | E54: =C54*D54 -> 0
A55: Line 35 | B55: XP21 Cable | C55: ='Contract Cost Sheet'!$C$36 -> 625 | D55: =IF(H33=0,0,1) -> 0 | E55: =C55*D55 -> 0
D56: total | E56: =SUM(E37:E55) -> 0
A58: Intersection Name
A59: 3 | B59: Total Approaches/Radars | C59: Length of Jumpers (6', 20', 80') | D59: Cards or Arc Unit? | E59: Arc2 Unit | F59: Arc6 Unit | G59: 120' Diagonal? | H59: XP21 Radar
A60: Stop Bar (Matrix) | B60: 0 | C60: 6 | D60: Cards | E60: =IF(D60="Arc Unit",IF(OR(B62="X",B62=1,B62=2),1,0),IF(H60=1,1,0)) -> 0 | F60: =IF(D60="Cards", 0, IF(OR(B62="X",B62=0,B62=1,B62=2),0,1)) -> 0 | G60: No | H60: =IF(G60="No", 0, 1) -> 0 | I60: =E83 -> 0
A61: GES (Advanced) | B61: 0 | C61: 6
A62: TOTAL | B62: =IF(H60=1,"X",SUM(B60:B61)) -> 0 | J62: =B62 -> 0
A64: Line 1 | B64: Six Card Power Supply | C64: ='Contract Cost Sheet'!$C$2 -> 3000 | D64: =IF(OR(E60=1,F60=1),0,IF(OR(B62="X",B62<=4),0,1)) -> 0 | E64: =C64*D64 -> 0
A65: Line 2 | B65: Four Card Power Supply | C65: ='Contract Cost Sheet'!$C$3 -> 2250 | D65: =IF(OR(E60=1,F60=1),0,IF(OR(B62="X",B62<=2,B62>4),0,1)) -> 0 | E65: =C65*D65 -> 0
A66: Line 3 | B66: Two Card Power Supply | C66: ='Contract Cost Sheet'!$C$4 -> 1550 | D66: =IF(OR(E60=1,F60=1),0,IF(OR(B62="X",B62>2,B62=0),0,1)) -> 0 | E66: =C66*D66 -> 0
A67: Line 4 | B67: Radar Detector Card | C67: ='Contract Cost Sheet'!$C$5 -> 415 | D67: =IF(OR(E60>=1,F60>=1),0,B62) -> 0 | E67: =C67*D67 -> 0
A68: Line 5 | B68: Advanced Radar Head | C68: ='Contract Cost Sheet'!$C$6 -> 4850 | D68: =IF(B62="X",0,B61) -> 0 | E68: =C68*D68 -> 0
A69: Line 6 | B69: Matrix Radar Head | C69: ='Contract Cost Sheet'!$C$7 -> 4450 | D69: =IF(B62="X",0,B60) -> 0 | E69: =C69*D69 -> 0
A70: Line 8 | B70: Radar Head Mount | C70: ='Contract Cost Sheet'!$C$9 -> 215 | D70: =IF(B62="X",0,B62) -> 0 | E70: =C70*D70 -> 0
A71: Line 9 | B71: Radar Junction Box | C71: ='Contract Cost Sheet'!$C$10 -> 190 | D71: =IF(B62="X",0,B62) -> 0 | E71: =C71*D71 -> 0
A72: Line 10 | B72: 80' Jumper | C72: ='Contract Cost Sheet'!$C$11 -> 365 | D72: =IF(B62="X",0,(IF(C60=80,B60,0)+IF(C61=80,B61,0))) -> 0 | E72: =C72*D72 -> 0
A73: Line 11 | B73: Bulk Wire Spool | C73: ='Contract Cost Sheet'!$C$12 -> 1250 | D73: =IF(B62="X",0,IF(B62>=1,1,0)) -> 0 | E73: =C73*D73 -> 0
A74: Line 18 | B74: 20' Jumper | C74: ='Contract Cost Sheet'!$C$19 -> 165 | D74: =IF(B62="X",0,(IF(C60=20,B60,0)+IF(C61=20,B61,0))) -> 0 | E74: =C74*D74 -> 0
A75: Line 19 | B75: 6' Jumper | C75: ='Contract Cost Sheet'!$C$20 -> 135 | D75: =IF(B62="X",0,(IF(C60=6,B60,0)+IF(C61=6,B61,0))) -> 0 | E75: =C75*D75 -> 0
A76: Line 23 | B76: SDLC Cable | C76: ='Contract Cost Sheet'!$C$24 -> 135 | D76: =IF(OR(E60>0,F60>0),E60+F60,0) -> 0 | E76: =C76*D76 -> 0
A77: Line 29 | B77: Arc2 Radar Box | C77: ='Contract Cost Sheet'!$C$30 -> 4950 | D77: =E60 -> 0 | E77: =C77*D77 -> 0
A78: Line 30 | B78: Arc6 Radar Box | C78: ='Contract Cost Sheet'!$C$31 -> 5750 | D78: =F60 -> 0 | E78: =C78*D78 -> 0
A79: Line 31 | B79: Arc Unit Surge Card | C79: ='Contract Cost Sheet'!$C$32 -> 245 | D79: =IF(AND(H60=0,OR(E60>0,F60>0)),B62,0) -> 0 | E79: =C79*D79 -> 0
A80: Line 32 | B80: XP21 Radar Sensor | C80: ='Contract Cost Sheet'!$C$33 -> 9950 | D80: =H60 -> 0 | E80: =C80*D80 -> 0
A81: Line 34 | B81: XP21 Arc2 Surge Card | C81: ='Contract Cost Sheet'!$C$35 -> 245 | D81: =IF(H60=0,0,1) -> 0 | E81: =C81*D81 -> 0
A82: Line 35 | B82: XP21 Cable | C82: ='Contract Cost Sheet'!$C$36 -> 625 | D82: =IF(H60=0,0,1) -> 0 | E82: =C82*D82 -> 0
D83: total | E83: =SUM(E64:E82) -> 0
A85: Intersection Name
A86: 4 | B86: Total Approaches/Radars | C86: Length of Jumpers (6', 20', 80') | D86: Cards or Arc Unit? | E86: Arc2 Unit | F86: Arc6 Unit | G86: 120' Diagonal? | H86: XP21 Radar
A87: Stop Bar (Matrix) | B87: 0 | C87: 6 | D87: Cards | E87: =IF(D87="Arc Unit",IF(OR(B89="X",B89=1,B89=2),1,0),IF(H87=1,1,0)) -> 0 | F87: =IF(D87="Cards", 0, IF(OR(B89="X",B89=0,B89=1,B89=2),0,1)) -> 0 | G87: No | H87: =IF(G87="No", 0, 1) -> 0 | I87: =E110 -> 0
A88: GES (Advanced) | B88: 0 | C88: 6
A89: TOTAL | B89: =IF(H87=1,"X",SUM(B87:B88)) -> 0 | J89: =B89 -> 0
A91: Line 1 | B91: Six Card Power Supply | C91: ='Contract Cost Sheet'!$C$2 -> 3000 | D91: =IF(OR(E87=1,F87=1),0,IF(OR(B89="X",B89<=4),0,1)) -> 0 | E91: =C91*D91 -> 0
A92: Line 2 | B92: Four Card Power Supply | C92: ='Contract Cost Sheet'!$C$3 -> 2250 | D92: =IF(OR(E87=1,F87=1),0,IF(OR(B89="X",B89<=2,B89>4),0,1)) -> 0 | E92: =C92*D92 -> 0
A93: Line 3 | B93: Two Card Power Supply | C93: ='Contract Cost Sheet'!$C$4 -> 1550 | D93: =IF(OR(E87=1,F87=1),0,IF(OR(B89="X",B89>2,B89=0),0,1)) -> 0 | E93: =C93*D93 -> 0
A94: Line 4 | B94: Radar Detector Card | C94: ='Contract Cost Sheet'!$C$5 -> 415 | D94: =IF(OR(E87>=1,F87>=1),0,B89) -> 0 | E94: =C94*D94 -> 0
A95: Line 5 | B95: Advanced Radar Head | C95: ='Contract Cost Sheet'!$C$6 -> 4850 | D95: =IF(B89="X",0,B88) -> 0 | E95: =C95*D95 -> 0
A96: Line 6 | B96: Matrix Radar Head | C96: ='Contract Cost Sheet'!$C$7 -> 4450 | D96: =IF(B89="X",0,B87) -> 0 | E96: =C96*D96 -> 0
A97: Line 8 | B97: Radar Head Mount | C97: ='Contract Cost Sheet'!$C$9 -> 215 | D97: =IF(B89="X",0,B89) -> 0 | E97: =C97*D97 -> 0
A98: Line 9 | B98: Radar Junction Box | C98: ='Contract Cost Sheet'!$C$10 -> 190 | D98: =IF(B89="X",0,B89) -> 0 | E98: =C98*D98 -> 0
A99: Line 10 | B99: 80' Jumper | C99: ='Contract Cost Sheet'!$C$11 -> 365 | D99: =IF(B89="X",0,(IF(C87=80,B87,0)+IF(C88=80,B88,0))) -> 0 | E99: =C99*D99 -> 0
A100: Line 11 | B100: Bulk Wire Spool | C100: ='Contract Cost Sheet'!$C$12 -> 1250 | D100: =IF(B89="X",0,IF(B89>=1,1,0)) -> 0 | E100: =C100*D100 -> 0
A101: Line 18 | B101: 20' Jumper | C101: ='Contract Cost Sheet'!$C$19 -> 165 | D101: =IF(B89="X",0,(IF(C87=20,B87,0)+IF(C88=20,B88,0))) -> 0 | E101: =C101*D101 -> 0
A102: Line 19 | B102: 6' Jumper | C102: ='Contract Cost Sheet'!$C$20 -> 135 | D102: =IF(B89="X",0,(IF(C87=6,B87,0)+IF(C88=6,B88,0))) -> 0 | E102: =C102*D102 -> 0
A103: Line 23 | B103: SDLC Cable | C103: ='Contract Cost Sheet'!$C$24 -> 135 | D103: =IF(OR(E87>0,F87>0),E87+F87,0) -> 0 | E103: =C103*D103 -> 0
A104: Line 29 | B104: Arc2 Radar Box | C104: ='Contract Cost Sheet'!$C$30 -> 4950 | D104: =E87 -> 0 | E104: =C104*D104 -> 0
A105: Line 30 | B105: Arc6 Radar Box | C105: ='Contract Cost Sheet'!$C$31 -> 5750 | D105: =F87 -> 0 | E105: =C105*D105 -> 0
A106: Line 31 | B106: Arc Unit Surge Card | C106: ='Contract Cost Sheet'!$C$32 -> 245 | D106: =IF(AND(H87=0,OR(E87>0,F87>0)),B89,0) -> 0 | E106: =C106*D106 -> 0
A107: Line 32 | B107: XP21 Radar Sensor | C107: ='Contract Cost Sheet'!$C$33 -> 9950 | D107: =H87 -> 0 | E107: =C107*D107 -> 0
...

Sheet Filled Out Examples
B1: Field Requires Entry | C1: County
B2: Field is Calculated | D2: Total Slots (Thru + Left if front rack is used) = Total Approach
F4: use one or the other
A5: No GES Loops Included
E6: Unit # = # of Radars it Supports | G6: Optional XP21 Radar View Note Below
A7: Intersection Name
A8: 1 Side Street or Mainline Left (Cards) | B8: Total Approaches/Radars | C8: Length of Jumpers (6', 20', 80') | D8: Cards or Arc Unit? | E8: Arc2 Unit | F8: Arc6 Unit | G8: 120' Diagonal? | H8: XP21 Radar
A9: Stop Bar (Matrix) | B9: 1 | C9: 6 | D9: Cards | E9: =IF(D9="Arc Unit",IF(OR(B11="X",B11=1,B11=2),1,0),IF(H9=1,1,0)) -> 0 | F9: =IF(D9="Cards", 0, IF(OR(B11="X",B11=0,B11=1,B11=2),0,1)) -> 0 | G9: No | H9: =IF(G9="No", 0, 1) -> 0 | I9: =E32 -> 8205
A10: GES (Advanced) | B10: 0 | C10: 6
A11: TOTAL | B11: =IF(H9=1,"X",SUM(B9:B10)) -> 1 | J11: =B11 -> 1
A13: Line 1 | B13: Six Card Power Supply | C13: ='Contract Cost Sheet'!$C$2 -> 3000 | D13: =IF(OR(E9=1,F9=1),0,IF(OR(B11="X",B11<=4),0,1)) -> 0 | E13: =C13*D13 -> 0
A14: Line 2 | B14: Four Card Power Supply | C14: ='Contract Cost Sheet'!$C$3 -> 2250 | D14: =IF(OR(E9=1,F9=1),0,IF(OR(B11="X",B11<=2,B11>4),0,1)) -> 0 | E14: =C14*D14 -> 0
A15: Line 3 | B15: Two Card Power Supply | C15: ='Contract Cost Sheet'!$C$4 -> 1550 | D15: =IF(OR(E9=1,F9=1),0,IF(OR(B11="X",B11>2,B11=0),0,1)) -> 1 | E15: =C15*D15 -> 1550
A16: Line 4 | B16: Radar Detector Card | C16: ='Contract Cost Sheet'!$C$5 -> 415 | D16: =IF(OR(E9>=1,F9>=1),0,B11) -> 1 | E16: =C16*D16 -> 415
A17: Line 5 | B17: Advanced Radar Head | C17: ='Contract Cost Sheet'!$C$6 -> 4850 | D17: =IF(B11="X",0,B10) -> 0 | E17: =C17*D17 -> 0
A18: Line 6 | B18: Matrix Radar Head | C18: ='Contract Cost Sheet'!$C$7 -> 4450 | D18: =IF(B11="X",0,B9) -> 1 | E18: =C18*D18 -> 4450
A19: Line 8 | B19: Radar Head Mount | C19: ='Contract Cost Sheet'!$C$9 -> 215 | D19: =IF(B11="X",0,B11) -> 1 | E19: =C19*D19 -> 215
A20: Line 9 | B20: Radar Junction Box | C20: ='Contract Cost Sheet'!$C$10 -> 190 | D20: =IF(B11="X",0,B11) -> 1 | E20: =C20*D20 -> 190
A21: Line 10 | B21: 80' Jumper | C21: ='Contract Cost Sheet'!$C$11 -> 365 | D21: =IF(B11="X",0,(IF(C9=80,B9,0)+IF(C10=80,B10,0))) -> 0 | E21: =C21*D21 -> 0
A22: Line 11 | B22: Bulk Wire Spool | C22: ='Contract Cost Sheet'!$C$12 -> 1250 | D22: =IF(B11="X",0,IF(B11>=1,1,0)) -> 1 | E22: =C22*D22 -> 1250
A23: Line 18 | B23: 20' Jumper | C23: ='Contract Cost Sheet'!$C$19 -> 165 | D23: =IF(B11="X",0,(IF(C9=20,B9,0)+IF(C10=20,B10,0))) -> 0 | E23: =C23*D23 -> 0
A24: Line 19 | B24: 6' Jumper | C24: ='Contract Cost Sheet'!$C$20 -> 135 | D24: =IF(B11="X",0,(IF(C9=6,B9,0)+IF(C10=6,B10,0))) -> 1 | E24: =C24*D24 -> 135
A25: Line 23 | B25: SDLC Cable | C25: ='Contract Cost Sheet'!$C$24 -> 135 | D25: =IF(OR(E9>0,F9>0),E9+F9,0) -> 0 | E25: =C25*D25 -> 0
A26: Line 29 | B26: Arc2 Radar Box | C26: ='Contract Cost Sheet'!$C$30 -> 4950 | D26: =E9 -> 0 | E26: =C26*D26 -> 0
A27: Line 30 | B27: Arc6 Radar Box | C27: ='Contract Cost Sheet'!$C$31 -> 5750 | D27: =F9 -> 0 | E27: =C27*D27 -> 0
A28: Line 31 | B28: Arc Unit Surge Card | C28: ='Contract Cost Sheet'!$C$32 -> 245 | D28: =IF(AND(H9=0,OR(E9>0,F9>0)),B11,0) -> 0 | E28: =C28*D28 -> 0
A29: Line 32 | B29: XP21 Radar Sensor | C29: ='Contract Cost Sheet'!$C$33 -> 9950 | D29: =H9 -> 0 | E29: =C29*D29 -> 0
A30: Line 34 | B30: XP21 Arc2 Surge Card | C30: ='Contract Cost Sheet'!$C$35 -> 245 | D30: =IF(H9=0,0,1) -> 0 | E30: =C30*D30 -> 0
A31: Line 35 | B31: XP21 Cable | C31: ='Contract Cost Sheet'!$C$36 -> 625 | D31: =IF(H9=0,0,1) -> 0 | E31: =C31*D31 -> 0
D32: total | E32: =SUM(E13:E31) -> 8205
A34: Intersection Name
A35: 1 Side Street or Mainline Left (Arc2) | B35: Total Approaches/Radars | C35: Length of Jumpers (6', 20', 80') | D35: Cards or Arc Unit? | E35: Arc2 Unit | F35: Arc6 Unit | G35: 120' Diagonal? | H35: XP21 Radar
A36: Stop Bar (Matrix) | B36: 1 | C36: 6 | D36: Arc Unit | E36: =IF(D36="Arc Unit",IF(OR(B38="X",B38=1,B38=2),1,0),IF(H36=1,1,0)) -> 1 | F36: =IF(D36="Cards", 0, IF(OR(B38="X",B38=0,B38=1,B38=2),0,1)) -> 0 | G36: No | H36: =IF(G36="No", 0, 1) -> 0 | I36: =E59 -> 11570
A37: GES (Advanced) | B37: 0 | C37: 6
A38: TOTAL | B38: =IF(H36=1,"X",SUM(B36:B37)) -> 1 | J38: =B38 -> 1
A40: Line 1 | B40: Six Card Power Supply | C40: ='Contract Cost Sheet'!$C$2 -> 3000 | D40: =IF(OR(E36=1,F36=1),0,IF(OR(B38="X",B38<=4),0,1)) -> 0 | E40: =C40*D40 -> 0
A41: Line 2 | B41: Four Card Power Supply | C41: ='Contract Cost Sheet'!$C$3 -> 2250 | D41: =IF(OR(E36=1,F36=1),0,IF(OR(B38="X",B38<=2,B38>4),0,1)) -> 0 | E41: =C41*D41 -> 0
A42: Line 3 | B42: Two Card Power Supply | C42: ='Contract Cost Sheet'!$C$4 -> 1550 | D42: =IF(OR(E36=1,F36=1),0,IF(OR(B38="X",B38>2,B38=0),0,1)) -> 0 | E42: =C42*D42 -> 0
A43: Line 4 | B43: Radar Detector Card | C43: ='Contract Cost Sheet'!$C$5 -> 415 | D43: =IF(OR(E36>=1,F36>=1),0,B38) -> 0 | E43: =C43*D43 -> 0
A44: Line 5 | B44: Advanced Radar Head | C44: ='Contract Cost Sheet'!$C$6 -> 4850 | D44: =IF(B38="X",0,B37) -> 0 | E44: =C44*D44 -> 0
A45: Line 6 | B45: Matrix Radar Head | C45: ='Contract Cost Sheet'!$C$7 -> 4450 | D45: =IF(B38="X",0,B36) -> 1 | E45: =C45*D45 -> 4450
A46: Line 8 | B46: Radar Head Mount | C46: ='Contract Cost Sheet'!$C$9 -> 215 | D46: =IF(B38="X",0,B38) -> 1 | E46: =C46*D46 -> 215
A47: Line 9 | B47: Radar Junction Box | C47: ='Contract Cost Sheet'!$C$10 -> 190 | D47: =IF(B38="X",0,B38) -> 1 | E47: =C47*D47 -> 190
A48: Line 10 | B48: 80' Jumper | C48: ='Contract Cost Sheet'!$C$11 -> 365 | D48: =IF(B38="X",0,(IF(C36=80,B36,0)+IF(C37=80,B37,0))) -> 0 | E48: =C48*D48 -> 0
A49: Line 11 | B49: Bulk Wire Spool | C49: ='Contract Cost Sheet'!$C$12 -> 1250 | D49: =IF(B38="X",0,IF(B38>=1,1,0)) -> 1 | E49: =C49*D49 -> 1250
A50: Line 18 | B50: 20' Jumper | C50: ='Contract Cost Sheet'!$C$19 -> 165 | D50: =IF(B38="X",0,(IF(C36=20,B36,0)+IF(C37=20,B37,0))) -> 0 | E50: =C50*D50 -> 0
A51: Line 19 | B51: 6' Jumper | C51: ='Contract Cost Sheet'!$C$20 -> 135 | D51: =IF(B38="X",0,(IF(C36=6,B36,0)+IF(C37=6,B37,0))) -> 1 | E51: =C51*D51 -> 135
A52: Line 23 | B52: SDLC Cable | C52: ='Contract Cost Sheet'!$C$24 -> 135 | D52: =IF(OR(E36>0,F36>0),E36+F36,0) -> 1 | E52: =C52*D52 -> 135
A53: Line 29 | B53: Arc2 Radar Box | C53: ='Contract Cost Sheet'!$C$30 -> 4950 | D53: =E36 -> 1 | E53: =C53*D53 -> 4950
A54: Line 30 | B54: Arc6 Radar Box | C54: ='Contract Cost Sheet'!$C$31 -> 5750 | D54: =F36 -> 0 | E54: =C54*D54 -> 0
A55: Line 31 | B55: Arc Unit Surge Card | C55: ='Contract Cost Sheet'!$C$32 -> 245 | D55: =IF(AND(H36=0,OR(E36>0,F36>0)),B38,0) -> 1 | E55: =C55*D55 -> 245
A56: Line 32 | B56: XP21 Radar Sensor | C56: ='Contract Cost Sheet'!$C$33 -> 9950 | D56: =H36 -> 0 | E56: =C56*D56 -> 0
A57: Line 34 | B57: XP21 Arc2 Surge Card | C57: ='Contract Cost Sheet'!$C$35 -> 245 | D57: =IF(H36=0,0,1) -> 0 | E57: =C57*D57 -> 0
A58: Line 35 | B58: XP21 Cable | C58: ='Contract Cost Sheet'!$C$36 -> 625 | D58: =IF(H36=0,0,1) -> 0 | E58: =C58*D58 -> 0
D59: total | E59: =SUM(E40:E58) -> 11570
A61: Intersection Name
A62: 1 Side Street or Mainline Left (Arc6) | B62: Total Approaches/Radars | C62: Length of Jumpers (6', 20', 80') | D62: Cards or Arc Unit? | E62: Arc2 Unit | F62: Arc6 Unit | G62: 120' Diagonal? | H62: XP21 Radar
A63: Stop Bar (Matrix) | B63: 1 | C63: 6 | D63: Arc Unit | E63: 0 | F63: 1 | G63: No | H63: =IF(G63="No", 0, 1) -> 0 | I63: =E86 -> 12370
A64: GES (Advanced) | B64: 0 | C64: 6
A65: TOTAL | B65: =IF(H63=1,"X",SUM(B63:B64)) -> 1 | J65: =B65 -> 1
A67: Line 1 | B67: Six Card Power Supply | C67: ='Contract Cost Sheet'!$C$2 -> 3000 | D67: =IF(OR(E63=1,F63=1),0,IF(OR(B65="X",B65<=4),0,1)) -> 0 | E67: =C67*D67 -> 0
A68: Line 2 | B68: Four Card Power Supply | C68: ='Contract Cost Sheet'!$C$3 -> 2250 | D68: =IF(OR(E63=1,F63=1),0,IF(OR(B65="X",B65<=2,B65>4),0,1)) -> 0 | E68: =C68*D68 -> 0
A69: Line 3 | B69: Two Card Power Supply | C69: ='Contract Cost Sheet'!$C$4 -> 1550 | D69: =IF(OR(E63=1,F63=1),0,IF(OR(B65="X",B65>2,B65=0),0,1)) -> 0 | E69: =C69*D69 -> 0
A70: Line 4 | B70: Radar Detector Card | C70: ='Contract Cost Sheet'!$C$5 -> 415 | D70: =IF(OR(E63>=1,F63>=1),0,B65) -> 0 | E70: =C70*D70 -> 0
A71: Line 5 | B71: Advanced Radar Head | C71: ='Contract Cost Sheet'!$C$6 -> 4850 | D71: =IF(B65="X",0,B64) -> 0 | E71: =C71*D71 -> 0
A72: Line 6 | B72: Matrix Radar Head | C72: ='Contract Cost Sheet'!$C$7 -> 4450 | D72: =IF(B65="X",0,B63) -> 1 | E72: =C72*D72 -> 4450
A73: Line 8 | B73: Radar Head Mount | C73: ='Contract Cost Sheet'!$C$9 -> 215 | D73: =IF(B65="X",0,B65) -> 1 | E73: =C73*D73 -> 215
A74: Line 9 | B74: Radar Junction Box | C74: ='Contract Cost Sheet'!$C$10 -> 190 | D74: =IF(B65="X",0,B65) -> 1 | E74: =C74*D74 -> 190
A75: Line 10 | B75: 80' Jumper | C75: ='Contract Cost Sheet'!$C$11 -> 365 | D75: =IF(B65="X",0,(IF(C63=80,B63,0)+IF(C64=80,B64,0))) -> 0 | E75: =C75*D75 -> 0
A76: Line 11 | B76: Bulk Wire Spool | C76: ='Contract Cost Sheet'!$C$12 -> 1250 | D76: =IF(B65="X",0,IF(B65>=1,1,0)) -> 1 | E76: =C76*D76 -> 1250
A77: Line 18 | B77: 20' Jumper | C77: ='Contract Cost Sheet'!$C$19 -> 165 | D77: =IF(B65="X",0,(IF(C63=20,B63,0)+IF(C64=20,B64,0))) -> 0 | E77: =C77*D77 -> 0
A78: Line 19 | B78: 6' Jumper | C78: ='Contract Cost Sheet'!$C$20 -> 135 | D78: =IF(B65="X",0,(IF(C63=6,B63,0)+IF(C64=6,B64,0))) -> 1 | E78: =C78*D78 -> 135
A79: Line 23 | B79: SDLC Cable | C79: ='Contract Cost Sheet'!$C$24 -> 135 | D79: =IF(OR(E63>0,F63>0),E63+F63,0) -> 1 | E79: =C79*D79 -> 135
A80: Line 29 | B80: Arc2 Radar Box | C80: ='Contract Cost Sheet'!$C$30 -> 4950 | D80: =E63 -> 0 | E80: =C80*D80 -> 0
A81: Line 30 | B81: Arc6 Radar Box | C81: ='Contract Cost Sheet'!$C$31 -> 5750 | D81: =F63 -> 1 | E81: =C81*D81 -> 5750
A82: Line 31 | B82: Arc Unit Surge Card | C82: ='Contract Cost Sheet'!$C$32 -> 245 | D82: =IF(AND(H63=0,OR(E63>0,F63>0)),B65,0) -> 1 | E82: =C82*D82 -> 245
A83: Line 32 | B83: XP21 Radar Sensor | C83: ='Contract Cost Sheet'!$C$33 -> 9950 | D83: =H63 -> 0 | E83: =C83*D83 -> 0
A84: Line 34 | B84: XP21 Arc2 Surge Card | C84: ='Contract Cost Sheet'!$C$35 -> 245 | D84: =IF(H63=0,0,1) -> 0 | E84: =C84*D84 -> 0
A85: Line 35 | B85: XP21 Cable | C85: ='Contract Cost Sheet'!$C$36 -> 625 | D85: =IF(H63=0,0,1) -> 0 | E85: =C85*D85 -> 0
D86: total | E86: =SUM(E67:E85) -> 12370
A88: Intersection Name
A89: 2 Side Streets and/or Mainline Lefts (Cards) | B89: Total Approaches/Radars | C89: Length of Jumpers (6', 20', 80') | D89: Cards or Arc Unit? | E89: Arc2 Unit | F89: Arc6 Unit | G89: 120' Diagonal? | H89: XP21 Radar
A90: Stop Bar (Matrix) | B90: 2 | C90: 6 | D90: Cards | E90: =IF(D90="Arc Unit",IF(OR(B92="X",B92=1,B92=2),1,0),IF(H90=1,1,0)) -> 0 | F90: =IF(D90="Cards", 0, IF(OR(B92="X",B92=0,B92=1,B92=2),0,1)) -> 0 | G90: No | H90: =IF(G90="No", 0, 1) -> 0 | I90: =E113 -> 13610
A91: GES (Advanced) | B91: 0 | C91: 6
A92: TOTAL | B92: =IF(H90=1,"X",SUM(B90:B91)) -> 2 | J92: =B92 -> 2
A94: Line 1 | B94: Six Card Power Supply | C94: ='Contract Cost Sheet'!$C$2 -> 3000 | D94: =IF(OR(E90=1,F90=1),0,IF(OR(B92="X",B92<=4),0,1)) -> 0 | E94: =C94*D94 -> 0
A95: Line 2 | B95: Four Card Power Supply | C95: ='Contract Cost Sheet'!$C$3 -> 2250 | D95: =IF(OR(E90=1,F90=1),0,IF(OR(B92="X",B92<=2,B92>4),0,1)) -> 0 | E95: =C95*D95 -> 0
A96: Line 3 | B96: Two Card Power Supply | C96: ='Contract Cost Sheet'!$C$4 -> 1550 | D96: =IF(OR(E90=1,F90=1),0,IF(OR(B92="X",B92>2,B92=0),0,1)) -> 1 | E96: =C96*D96 -> 1550
A97: Line 4 | B97: Radar Detector Card | C97: ='Contract Cost Sheet'!$C$5 -> 415 | D97: =IF(OR(E90>=1,F90>=1),0,B92) -> 2 | E97: =C97*D97 -> 830
A98: Line 5 | B98: Advanced Radar Head | C98: ='Contract Cost Sheet'!$C$6 -> 4850 | D98: =IF(B92="X",0,B91) -> 0 | E98: =C98*D98 -> 0
A99: Line 6 | B99: Matrix Radar Head | C99: ='Contract Cost Sheet'!$C$7 -> 4450 | D99: =IF(B92="X",0,B90) -> 2 | E99: =C99*D99 -> 8900
A100: Line 8 | B100: Radar Head Mount | C100: ='Contract Cost Sheet'!$C$9 -> 215 | D100: =IF(B92="X",0,B92) -> 2 | E100: =C100*D100 -> 430
A101: Line 9 | B101: Radar Junction Box | C101: ='Contract Cost Sheet'!$C$10 -> 190 | D101: =IF(B92="X",0,B92) -> 2 | E101: =C101*D101 -> 380
A102: Line 10 | B102: 80' Jumper | C102: ='Contract Cost Sheet'!$C$11 -> 365 | D102: =IF(B92="X",0,(IF(C90=80,B90,0)+IF(C91=80,B91,0))) -> 0 | E102: =C102*D102 -> 0
A103: Line 11 | B103: Bulk Wire Spool | C103: ='Contract Cost Sheet'!$C$12 -> 1250 | D103: =IF(B92="X",0,IF(B92>=1,1,0)) -> 1 | E103: =C103*D103 -> 1250
A104: Line 18 | B104: 20' Jumper | C104: ='Contract Cost Sheet'!$C$19 -> 165 | D104: =IF(B92="X",0,(IF(C90=20,B90,0)+IF(C91=20,B91,0))) -> 0 | E104: =C104*D104 -> 0
A105: Line 19 | B105: 6' Jumper | C105: ='Contract Cost Sheet'!$C$20 -> 135 | D105: =IF(B92="X",0,(IF(C90=6,B90,0)+IF(C91=6,B91,0))) -> 2 | E105: =C105*D105 -> 270
A106: Line 23 | B106: SDLC Cable | C106: ='Contract Cost Sheet'!$C$24 -> 135 | D106: =IF(OR(E90>0,F90>0),E90+F90,0) -> 0 | E106: =C106*D106 -> 0
A107: Line 29 | B107: Arc2 Radar Box | C107: ='Contract Cost Sheet'!$C$30 -> 4950 | D107: =E90 -> 0 | E107: =C107*D107 -> 0
A108: Line 30 | B108: Arc6 Radar Box | C108: ='Contract Cost Sheet'!$C$31 -> 5750 | D108: =F90 -> 0 | E108: =C108*D108 -> 0
...

Sheet Contract Cost Sheet
A1: Line # | B1: Line Item | C1: Costs
A2: 1 | B2: Six Smart Sensor | C2: 3000
A3: 2 | B3: Four Smart Sensor | C3: 2250
A4: 3 | B4: Two Smart Sensor | C4: 1550
A5: 4 | B5: Channel Card | C5: 415
A6: 5 | B6: Advance Sensor | C6: 4850
A7: 6 | B7: Matrix Stop Bar Sensor | C7: 4450
A8: 7 | B8: HD Sensor | C8: 5850
A9: 8 | B9: Heavy Duty Sensor | C9: 215
A10: 9 | B10: Junction Box | C10: 190
A11: 10 | B11: Power Comm Cable | C11: 365
A12: 11 | B12: Bulk Cable | C12: 1250
A13: 12 | B13: 40Ft Power and Comm Cable | C13: 295
... A36: 35 | B36: XP21 500' Cable | C36: 625
