Workbook

Sheet Radar Information
B1: Field Requires Entry | C1: County | F1: Sheet 2 shows costs for common set-ups
B2: Field is Calculated
E3: Unit # = # of Radars it Supports | G3: Optional XP21 Radar View Note Below
A4: Intersection Name
A5: 1 | B5: Total Approaches/Radars | C5: Length of Jumpers (6', 20', 80') | D5: Cards or Arc Unit? | E5: Arc2 Unit | F5: Arc6 Unit | G5: 120' Diagonal? | H5: XP21 Radar
A6: Stop Bar (Matrix) | B6: 0 | C6: 6 | D6: Cards | E6: =IF(D6="Arc Unit",IF(OR(B8="X",B8=1,B8=2),1,0),IF(H6=1,1,0)) -> 0 | F6: =IF(D6="Cards", 0, IF(OR(B8="X",B8=0,B8=1,B8=2),0,1)) -> 0 | G6: No | H6: =IF(G6="No", 0, 1) -> 0 | I6: =E29 -> 0
A7: GES (Advanced) | B7: 0 | C7: 6
A8: TOTAL | B8: =IF(H6=1,"X",SUM(B6:B7)) -> 0 | J8: =B8 -> 0
A10: Line 1 | B10: Six Card Power Supply | C10: ='Contract Cost Sheet'!$C$2 -> 3000 | D10: =IF(OR(E6=1,F6=1),0,IF(OR(B8="X",B8<=4),0,1)) -> 0 | E10: =C10*D10 -> 0
A11: Line 2 | B11: Four Card Power Supply | C11: ='Contract Cost Sheet'!$C$3 -> 2250 | D11: =IF(OR(E6=1,F6=1),0,IF(OR(B8="X",B8<=2,B8>4),0,1)) -> 0 | E11: =C11*D11 -> 0
A12: Line 3 | B12: Two Card Power Supply | C12: ='Contract Cost Sheet'!$C$4 -> 1550 | D12: =IF(OR(E6=1,F6=1),0,IF(OR(B8="X",B8>2,B8=0),0,1)) -> 0 | E12: =C12*D12 -> 0
A13: Line 4 | B13: Radar Detector Card | C13: ='Contract Cost Sheet'!$C$5 -> 415 | D13: =IF(OR(E6>=1,F6>=1),0,B8) -> 0 | E13: =C13*D13 -> 0
A14: Line 5 | B14: Advanced Radar Head | C14: ='Contract Cost Sheet'!$C$6 -> 4850 | D14: =IF(B8="X",0,B7) -> 0 | E14: =C14*D14 -> 0
A15: Line 6 | B15: Matrix Radar Head | C15: ='Contract Cost Sheet'!$C$7 -> 4450 | D15: =IF(B8="X",0,B6) -> 0 | E15: =C15*D15 -> 0
A16: Line 8 | B16: Radar Head Mount | C16: ='Contract Cost Sheet'!$C$9 -> 215 | D16: =IF(B8="X",0,B8) -> 0 | E16: =C16*D16 -> 0
A17: Line 9 | B17: Radar Junction Box | C17: ='Contract Cost Sheet'!$C$10 -> 190 | D17: =IF(B8="X",0,B8) -> 0 | E17: =C17*D17 -> 0
A18: Line 10 | B18: 80' Jumper | C18: ='Contract Cost Sheet'!$C$11 -> 365 | D18: =IF(B8="X",0,(IF(C6=80,B6,0)+IF(C7=80,B7,0))) -> 0 | E18: =C18*D18 -> 0
A19: Line 11 | B19: Bulk Wire Spool | C19: ='Contract Cost Sheet'!$C$12 -> 1250 | D19: =IF(B8="X",0,IF(B8>=1,1,0)) -> 0 | E19: =C19*D19 -> 0
A20: Line 18 | B20: 20' Jumper | C20: ='Contract Cost Sheet'!$C$19 -> 165 | D20: =IF(B8="X",0,(IF(C6=20,B6,0)+IF(C7=20,B7,0))) -> 0 | E20: =C20*D20 -> 0
A21: Line 19 | B21: 6' Jumper | C21: ='Contract Cost Sheet'!$C$20 -> 135 | D21: =IF(B8="X",0,(IF(C6=6,B6,0)+IF(C7=6,B7,0))) -> 0 | E21: =C21*D21 -> 0
A22: Line 23 | B22: SDLC Cable | C22: ='Contract Cost Sheet'!$C$24 -> 135 | D22: =IF(OR(E6>0,F6>0),E6+F6,0) -> 0 | E22: =C22*D22 -> 0
A23: Line 29 | B23: Arc2 Radar Box | C23: ='Contract Cost Sheet'!$C$30 -> 4950 | D23: =E6 -> 0 | E23: =C23*D23 -> 0
A24: Line 30 | B24: Arc6 Radar Box | C24: ='Contract Cost Sheet'!$C$31 -> 5750 | D24: =F6 -> 0 | E24: =C24*D24 -> 0
A25: Line 31 | B25: Arc Unit Surge Card | C25: ='Contract Cost Sheet'!$C$32 -> 245 | D25: =IF(AND(H6=0,OR(E6>0,F6>0)),B8,0) -> 0 | E25: =C25*D25 -> 0
A26: Line 32 | B26: XP21 Radar Sensor | C26: ='Contract Cost Sheet'!$C$33 -> 9950 | D26: =H6 -> 0 | E26: =C26*D26 -> 0
A27: Line 34 | B27: XP21 Arc2 Surge Card | C27: ='Contract Cost Sheet'!$C$35 -> 245 | D27: =IF(H6=0,0,1) -> 0 | E27: =C27*D27 -> 0
A28: Line 35 | B28: XP21 Cable | C28: ='Contract Cost Sheet'!$C$36 -> 625 | D28: =IF(H6=0,0,1) -> 0 | E28: =C28*D28 -> 0
D29: total | E29: =SUM(E10:E28) -> 0
A31: Intersection Name
A32: 2 | B32: Total Approaches/Radars | C32: Length of Jumpers (6', 20', 80') | D32: Cards or Arc Unit? | E32: Arc2 Unit | F32: Arc6 Unit | G32: 120' Diagonal? | H32: XP21 Radar
A33: Stop Bar (Matrix) | B33: 0 | C33: 6 | D33: Cards | E33: =IF(D33="Arc Unit",IF(OR(B35="X",B35=1,B35=2),1,0),IF(H33=1,1,0)) -> 0 | F33: =IF(D33="Cards", 0, IF(OR(B35="X",B35=0,B35=1,B35=2),0,1)) -> 0 | G33: No | H33: =IF(G33="No", 0, 1) -> 0 | I33: =E56 -> 0
A34: GES (Advanced) | B34: 0 | C34: 6
A35: TOTAL | B35: =IF(H33=1,"X",SUM(B33:B34)) -> 0 | J35: =B35 -> 0
A37: Line 1 | B37: Six Card Power Supply | C37: ='Contract Cost Sheet'!$C$2 -> 3000 | D37: =IF(OR(E33=1,F33=1),0,IF(OR(B35="X",B35<=4),0,1)) -> 0 | E37: =C37*D37 -> 0
A38: Line 2 | B38: Four Card Power Supply | C38: ='Contract Cost Sheet'!$C$3 -> 2250 | D38: =IF(OR(E33=1,F33=1),0,IF(OR(B35="X",B35<=2,B35>4),0,1)) -> 0 | E38: =C38*D38 -> 0
A39: Line 3 | B39: Two Card Power Supply | C39: ='Contract Cost Sheet'!$C$4 -> 1550 | D39: =IF(OR(E33=1,F33=1),0,IF(OR(B35="X",B35>2,B35=0),0,1)) -> 0 | E39: =C39*D39 -> 0
A40: Line 4 | B40: Radar Detector Card | C40: ='Contract Cost Sheet'!$C$5 -> 415 | D40: =IF(OR(E33>=1,F33>=1),0,B35) -> 0 | E40: =C40*D40 -> 0
A41: Line 5 | B41: Advanced Radar Head | C41: ='Contract Cost Sheet'!$C$6 -> 4850 | D41: =IF(B35="X",0,B34) -> 0 | E41: =C41*D41 -> 0
A42: Line 6 | B42: Matrix Radar Head | C42: ='Contract Cost Sheet'!$C$7 -> 4450 | D42: =IF(B35="X",0,B33) -> 0 | E42: =C42*D42 -> 0
A43: Line 8 | B43: Radar Head Mount | C43: ='Contract Cost Sheet'!$C$9 -> 215 | D43: =IF(B35="X",0,B35) -> 0 | E43: =C43*D43 -> 0
...

Sheet Filled Out Examples
B1: Field Requires Entry | C1: County
B2: Field is Calculated | D2: Total Slots (Thru + Left if front rack is used) = Total Approach
F4: use one or the other
A5: No GES Loops Included
E6: Unit # = # of Radars it Supports | G6: Optional XP21 Radar View Note Below
A7: Intersection Name
A8: 1 Side Street or Mainline Left (Cards) | B8: Total Approaches/Radars | C8: Length of Jumpers (6', 20', 80') | D8: Cards or Arc Unit? | E8: Arc2 Unit | F8: Arc6 Unit | G8: 120' Diagonal? | H8: XP21 Radar
A9: Stop Bar (Matrix) | B9: 1 | C9: 6 | D9: Cards | E9: =IF(D9="Arc Unit",IF(OR(B11="X",B11=1,B11=2),1,0),IF(H9=1,1,0)) -> 0 | F9: =IF(D9="Cards", 0, IF(OR(B11="X",B11=0,B11=1,B11=2),0,1)) -> 0 | G9: No | H9: =IF(G9="No", 0, 1) -> 0 | I9: =E32 -> 8205
A10: GES (Advanced) | B10: 0 | C10: 6
A11: TOTAL | B11: =IF(H9=1,"X",SUM(B9:B10)) -> 1 | J11: =B11 -> 1
A13: Line 1 | B13: Six Card Power Supply | C13: ='Contract Cost Sheet'!$C$2 -> 3000 | D13: =IF(OR(E9=1,F9=1),0,IF(OR(B11="X",B11<=4),0,1)) -> 0 | E13: =C13*D13 -> 0
A14: Line 2 | B14: Four Card Power Supply | C14: ='Contract Cost Sheet'!$C$3 -> 2250 | D14: =IF(OR(E9=1,F9=1),0,IF(OR(B11="X",B11<=2,B11>4),0,1)) -> 0 | E14: =C14*D14 -> 0
A15: Line 3 | B15: Two Card Power Supply | C15: ='Contract Cost Sheet'!$C$4 -> 1550 | D15: =IF(OR(E9=1,F9=1),0,IF(OR(B11="X",B11>2,B11=0),0,1)) -> 1 | E15: =C15*D15 -> 1550
A16: Line 4 | B16: Radar Detector Card | C16: ='Contract Cost Sheet'!$C$5 -> 415 | D16: =IF(OR(E9>=1,F9>=1),0,B11) -> 1 | E16: =C16*D16 -> 415
A17: Line 5 | B17: Advanced Radar Head | C17: ='Contract Cost Sheet'!$C$6 -> 4850 | D17: =IF(B11="X",0,B10) -> 0 | E17: =C17*D17 -> 0
A18: Line 6 | B18: Matrix Radar Head | C18: ='Contract Cost Sheet'!$C$7 -> 4450 | D18: =IF(B11="X",0,B9) -> 1 | E18: =C18*D18 -> 4450
A19: Line 8 | B19: Radar Head Mount | C19: ='Contract Cost Sheet'!$C$9 -> 215 | D19: =IF(B11="X",0,B11) -> 1 | E19: =C19*D19 -> 215
A20: Line 9 | B20: Radar Junction Box | C20: ='Contract Cost Sheet'!$C$10 -> 190 | D20: =IF(B11="X",0,B11) -> 1 | E20: =C20*D20 -> 190
A21: Line 10 | B21: 80' Jumper | C21: ='Contract Cost Sheet'!$C$11 -> 365 | D21: =IF(B11="X",0,(IF(C9=80,B9,0)+IF(C10=80,B10,0))) -> 0 | E21: =C21*D21 -> 0
A22: Line 11 | B22: Bulk Wire Spool | C22: ='Contract Cost Sheet'!$C$12 -> 1250 | D22: =IF(B11="X",0,IF(B11>=1,1,0)) -> 1 | E22: =C22*D22 -> 1250
A23: Line 18 | B23: 20' Jumper | C23: ='Contract Cost Sheet'!$C$19 -> 165 | D23: =IF(B11="X",0,(IF(C9=20,B9,0)+IF(C10=20,B10,0))) -> 0 | E23: =C23*D23 -> 0
A24: Line 19 | B24: 6' Jumper | C24: ='Contract Cost Sheet'!$C$20 -> 135 | D24: =IF(B11="X",0,(IF(C9=6,B9,0)+IF(C10=6,B10,0))) -> 1 | E24: =C24*D24 -> 135
A25: Line 23 | B25: SDLC Cable | C25: ='Contract Cost Sheet'!$C$24 -> 135 | D25: =IF(OR(E9>0,F9>0),E9+F9,0) -> 0 | E25: =C25*D25 -> 0
A26: Line 29 | B26: Arc2 Radar Box | C26: ='Contract Cost Sheet'!$C$30 -> 4950 | D26: =E9 -> 0 | E26: =C26*D26 -> 0
A27: Line 30 | B27: Arc6 Radar Box | C27: ='Contract Cost Sheet'!$C$31 -> 5750 | D27: =F9 -> 0 | E27: =C27*D27 -> 0
A28: Line 31 | B28: Arc Unit Surge Card | C28: ='Contract Cost Sheet'!$C$32 -> 245 | D28: =IF(AND(H9=0,OR(E9>0,F9>0)),B11,0) -> 0 | E28: =C28*D28 -> 0
A29: Line 32 | B29: XP21 Radar Sensor | C29: ='Contract Cost Sheet'!$C$33 -> 9950 | D29: =H9 -> 0 | E29: =C29*D29 -> 0
A30: Line 34 | B30: XP21 Arc2 Surge Card | C30: ='Contract Cost Sheet'!$C$35 -> 245 | D30: =IF(H9=0,0,1) -> 0 | E30: =C30*D30 -> 0
A31: Line 35 | B31: XP21 Cable | C31: ='Contract Cost Sheet'!$C$36 -> 625 | D31: =IF(H9=0,0,1) -> 0 | E31: =C31*D31 -> 0
D32: total | E32: =SUM(E13:E31) -> 8205
A34: Intersection Name
A35: 1 Side Street or Mainline Left (Arc2) | B35: Total Approaches/Radars | C35: Length of Jumpers (6', 20', 80') | D35: Cards or Arc Unit? | E35: Arc2 Unit | F35: Arc6 Unit | G35: 120' Diagonal? | H35: XP21 Radar
A36: Stop Bar (Matrix) | B36: 1 | C36: 6 | D36: Arc Unit | E36: =IF(D36="Arc Unit",IF(OR(B38="X",B38=1,B38=2),1,0),IF(H36=1,1,0)) -> 1 | F36: =IF(D36="Cards", 0, IF(OR(B38="X",B38=0,B38=1,B38=2),0,1)) -> 0 | G36: No | H36: =IF(G36="No", 0, 1) -> 0 | I36: =E59 -> 11570
A37: GES (Advanced) | B37: 0 | C37: 6
A38: TOTAL | B38: =IF(H36=1,"X",SUM(B36:B37)) -> 1 | J38: =B38 -> 1
A40: Line 1 | B40: Six Card Power Supply | C40: ='Contract Cost Sheet'!$C$2 -> 3000 | D40: =IF(OR(E36=1,F36=1),0,IF(OR(B38="X",B38<=4),0,1)) -> 0 | E40: =C40*D40 -> 0
A41: Line 2 | B41: Four Card Power Supply | C41: ='Contract Cost Sheet'!$C$3 -> 2250 | D41: =IF(OR(E36=1,F36=1),0,IF(OR(B38="X",B38<=2,B38>4),0,1)) -> 0 | E41: =C41*D41 -> 0
A42: Line 3 | B42: Two Card Power Supply | C42: ='Contract Cost Sheet'!$C$4 -> 1550 | D42: =IF(OR(E36=1,F36=1),0,IF(OR(B38="X",B38>2,B38=0),0,1)) -> 0 | E42: =C42*D42 -> 0
A43: Line 4 | B43: Radar Detector Card | C43: ='Contract Cost Sheet'!$C$5 -> 415 | D43: =IF(OR(E36>=1,F36>=1),0,B38) -> 0 | E43: =C43*D43 -> 0
A44: Line 5 | B44: Advanced Radar Head | C44: ='Contract Cost Sheet'!$C$6 -> 4850 | D44: =IF(B38="X",0,B37) -> 0 | E44: =C44*D44 -> 0
...

Sheet Contract Cost Sheet
A1: Line # | B1: Line Item | C1: Costs
A2: 1 | B2: Six Smart Sensor | C2: 3000
A3: 2 | B3: Four Smart Sensor | C3: 2250
A4: 3 | B4: Two Smart Sensor | C4: 1550
A5: 4 | B5: Channel Card | C5: 415
A6: 5 | B6: Advance Sensor | C6: 4850
A7: 6 | B7: Matrix Stop Bar Sensor | C7: 4450
A8: 7 | B8: HD Sensor | C8: 5850
A9: 8 | B9: Heavy Duty Sensor | C9: 215
A10: 9 | B10: Junction Box | C10: 190
A11: 10 | B11: Power Comm Cable | C11: 365
A12: 11 | B12: Bulk Cable | C12: 1250
A13: 12 | B13: 40Ft Power and Comm Cable | C13: 295
... A36: 35 | B36: XP21 500' Cable | C36: 625
